BEGIN:VCALENDAR
VERSION:2.0
PRODID:-//hacksw/handcal//NONSGML v1.0//EN
BEGIN:VEVENT
DTSTAMP:20260416T163000Z
DTSTART:20260416T163000Z
DTEND:20260416T163000Z
LOCATION:Rheurdt, Deutschland
SUMMARY:Fraktionssitzung
END:VEVENT
END:VCALENDAR
